BEGIN:VCALENDAR
VERSION:2.0
PRODID:-//Mouvement démocratie nouvelle | MDN - ECPv6.2.6//NONSGML v1.0//EN
CALSCALE:GREGORIAN
METHOD:PUBLISH
X-ORIGINAL-URL:https://democratie-nouvelle.qc.ca
X-WR-CALDESC:Événements pour Mouvement démocratie nouvelle | MDN
REFRESH-INTERVAL;VALUE=DURATION:PT1H
X-Robots-Tag:noindex
X-PUBLISHED-TTL:PT1H
BEGIN:VTIMEZONE
TZID:America/Halifax
BEGIN:DAYLIGHT
TZOFFSETFROM:-0400
TZOFFSETTO:-0300
TZNAME:ADT
DTSTART:20240310T060000
END:DAYLIGHT
BEGIN:STANDARD
TZOFFSETFROM:-0300
TZOFFSETTO:-0400
TZNAME:AST
DTSTART:20241103T050000
END:STANDARD
END:VTIMEZONE
BEGIN:VEVENT
DTSTART;TZID=America/Halifax:20240508T170000
DTEND;TZID=America/Halifax:20240508T210000
DTSTAMP:20260423T101143
CREATED:20240405T180202Z
LAST-MODIFIED:20240405T205552Z
UID:5262-1715187600-1715202000@democratie-nouvelle.qc.ca
SUMMARY:Célébrons les 25 ans du MDN
DESCRIPTION:C’est le 8 mai prochain que le Mouvement Démocratie Nouvelle soit le MDN s’apprête à célébrer son 25e anniversaire. Comme vous le savez sans doute\, le MDN est le principal fer de lance du combat en faveur de la réforme du mode de scrutin au Québec\, un enjeu crucial pour notre démocratie.\n\n\nCe sera l’occasion parfaite pour échanger et partager un moment convivial avec vous.\n\n\n\nNotre invité d’honneur pour la soirée sera M. Sébastien Ricard\, comédien et membre du groupe Loco Locass.\n\n\n\nUn événement à ne pas manquer.\n\n\n\nRéservez la date dans votre agenda.\n\nhttps://www.facebook.com/DemocratieNouvelle
URL:https://democratie-nouvelle.qc.ca/evenement/celebrons-les-25-ans-du-mdn/
LOCATION:Québec\, Devant l'Assemblée Nationale\, Québec\, Québec\, Canada
CATEGORIES:Événements du MDN
ATTACH;FMTTYPE=image/jpeg:https://democratie-nouvelle.qc.ca/wp-content/uploads/2022/12/assINM-10.jpg
ORGANIZER;CN="MDN":MAILTO:info@mdn.qc.ca
END:VEVENT
END:VCALENDAR